BEGIN:VCALENDAR
VERSION:2.0
PRODID:LFV Website-Kit
METHOD:PUBLISH
BEGIN:VEVENT
UID:lfv-c8a97a75-a43e-430c-9ce0-41e7b449c853
LOCATION:
SUMMARY:Teilnahme am Festzug der FW Pettendorf
DESCRIPTION:Termin Link: http://www.oberpfraundorf.feuerwehren.bayern/termine/teilnahme-am-festzug-der-fw-pettendorf/
URL:http://www.oberpfraundorf.feuerwehren.bayern/termine/teilnahme-am-festzug-der-fw-pettendorf/
CLASS:PRIVATE
DTSTART;TZID=Europe/Berlin:20260621T140000
DTEND;TZID=Europe/Berlin:20260621T150000
DTSTAMP:20260421T062424Z
END:VEVENT
END:VCALENDAR