BEGIN:VCALENDAR
VERSION:2.0
PRODID:LFV Website-Kit
METHOD:PUBLISH
BEGIN:VEVENT
UID:lfv-c3d3bc24-10ee-43a6-a97e-4e765dc683ae
LOCATION:
SUMMARY:Teilnahme am Festzug der FW Langenkreith
DESCRIPTION:Termin Link: http://www.oberpfraundorf.feuerwehren.bayern/termine/teilnahme-am-festzug-der-fw-langenkreith/
URL:http://www.oberpfraundorf.feuerwehren.bayern/termine/teilnahme-am-festzug-der-fw-langenkreith/
CLASS:PRIVATE
DTSTART;TZID=Europe/Berlin:20260607T140000
DTEND;TZID=Europe/Berlin:20260607T150000
DTSTAMP:20260421T045327Z
END:VEVENT
END:VCALENDAR