BEGIN:VCALENDAR
VERSION:2.0
PRODID:LFV Website-Kit
METHOD:PUBLISH
BEGIN:VEVENT
UID:lfv-dbb501f6-aa3c-4a20-a3f1-bb36542cde20
LOCATION:
SUMMARY:Teilnahme am Festabend des Sportvereins Hardt
DESCRIPTION:Termin Link: http://www.oberpfraundorf.feuerwehren.bayern/termine/teilnahme-am-festabend-des-sportvereins-hardt/
URL:http://www.oberpfraundorf.feuerwehren.bayern/termine/teilnahme-am-festabend-des-sportvereins-hardt/
CLASS:PRIVATE
DTSTART;TZID=Europe/Berlin:20260718T170000
DTEND;TZID=Europe/Berlin:20260718T180000
DTSTAMP:20260421T045357Z
END:VEVENT
END:VCALENDAR