BEGIN:VCALENDAR
VERSION:2.0
PRODID:LFV Website-Kit
METHOD:PUBLISH
BEGIN:VEVENT
UID:lfv-286a8267-4785-4066-989a-b8709c84b785
LOCATION:
SUMMARY:Monatsübung
DESCRIPTION:Termin Link: http://www.oberpfraundorf.feuerwehren.bayern/termine/monatsubung-9/
URL:http://www.oberpfraundorf.feuerwehren.bayern/termine/monatsubung-9/
CLASS:PRIVATE
DTSTART;TZID=Europe/Berlin:20260909T190000
DTEND;TZID=Europe/Berlin:20260909T200000
DTSTAMP:20260421T061721Z
END:VEVENT
END:VCALENDAR