BEGIN:VCALENDAR
VERSION:2.0
PRODID:LFV Website-Kit
METHOD:PUBLISH
BEGIN:VEVENT
UID:lfv-226d2888-c0a2-4471-b1f7-1dc3f77267ba
LOCATION:
SUMMARY:Monatsübung
DESCRIPTION:Termin Link: http://www.oberpfraundorf.feuerwehren.bayern/termine/monatsubung-8/
URL:http://www.oberpfraundorf.feuerwehren.bayern/termine/monatsubung-8/
CLASS:PRIVATE
DTSTART;TZID=Europe/Berlin:20260812T190000
DTEND;TZID=Europe/Berlin:20260812T200000
DTSTAMP:20260421T043857Z
END:VEVENT
END:VCALENDAR