BEGIN:VCALENDAR
VERSION:2.0
PRODID:LFV Website-Kit
METHOD:PUBLISH
BEGIN:VEVENT
UID:lfv-3fc42abf-cf6e-4f88-8954-0f2bdb360dac
LOCATION:
SUMMARY:Monatsübung
DESCRIPTION:Termin Link: http://www.oberpfraundorf.feuerwehren.bayern/termine/monatsubung-6/
URL:http://www.oberpfraundorf.feuerwehren.bayern/termine/monatsubung-6/
CLASS:PRIVATE
DTSTART;TZID=Europe/Berlin:20261209T190000
DTEND;TZID=Europe/Berlin:20261209T200000
DTSTAMP:20260421T043930Z
END:VEVENT
END:VCALENDAR