BEGIN:VCALENDAR
VERSION:2.0
PRODID:LFV Website-Kit
METHOD:PUBLISH
BEGIN:VEVENT
UID:lfv-ea697d68-7803-4422-8e97-dbd5783990e1
LOCATION:
SUMMARY:Monatsübung
DESCRIPTION:Termin Link: http://www.oberpfraundorf.feuerwehren.bayern/termine/monatsubung-5/
URL:http://www.oberpfraundorf.feuerwehren.bayern/termine/monatsubung-5/
CLASS:PRIVATE
DTSTART;TZID=Europe/Berlin:20260513T190000
DTEND;TZID=Europe/Berlin:20260513T200000
DTSTAMP:20260421T043858Z
END:VEVENT
END:VCALENDAR