BEGIN:VCALENDAR
VERSION:2.0
PRODID:LFV Website-Kit
METHOD:PUBLISH
BEGIN:VEVENT
UID:lfv-11a99d89-41cf-4425-8764-5e2fd7b890ca
LOCATION:
SUMMARY:Monatsübung
DESCRIPTION:Termin Link: http://www.oberpfraundorf.feuerwehren.bayern/termine/monatsubung-12/
URL:http://www.oberpfraundorf.feuerwehren.bayern/termine/monatsubung-12/
CLASS:PRIVATE
DTSTART;TZID=Europe/Berlin:20260610T190000
DTEND;TZID=Europe/Berlin:20260610T200000
DTSTAMP:20260421T043429Z
END:VEVENT
END:VCALENDAR