BEGIN:VCALENDAR
VERSION:2.0
PRODID:LFV Website-Kit
METHOD:PUBLISH
BEGIN:VEVENT
UID:lfv-ebfc5506-6b40-4be4-8312-8d6515627714
LOCATION:
SUMMARY:Monatsübung
DESCRIPTION:Termin Link: http://www.oberpfraundorf.feuerwehren.bayern/termine/monatsubung-11/
URL:http://www.oberpfraundorf.feuerwehren.bayern/termine/monatsubung-11/
CLASS:PRIVATE
DTSTART;TZID=Europe/Berlin:20261111T190000
DTEND;TZID=Europe/Berlin:20261111T200000
DTSTAMP:20260421T061851Z
END:VEVENT
END:VCALENDAR