BEGIN:VCALENDAR
VERSION:2.0
PRODID:LFV Website-Kit
METHOD:PUBLISH
BEGIN:VEVENT
UID:lfv-5b75d979-5276-4acc-a7a5-ba3cd14e0284
LOCATION:
SUMMARY:Monatsübung
DESCRIPTION:Termin Link: http://www.oberpfraundorf.feuerwehren.bayern/termine/monatsubung-10/
URL:http://www.oberpfraundorf.feuerwehren.bayern/termine/monatsubung-10/
CLASS:PRIVATE
DTSTART;TZID=Europe/Berlin:20261014T190000
DTEND;TZID=Europe/Berlin:20261014T200000
DTSTAMP:20260421T061851Z
END:VEVENT
END:VCALENDAR