BEGIN:VCALENDAR
VERSION:2.0
PRODID:LFV Website-Kit
METHOD:PUBLISH
BEGIN:VEVENT
UID:lfv-833f9db5-7af3-45ad-8c19-9a8e34220f99
LOCATION:
SUMMARY:Fahrt zum Gründungsfest der FW Pfraundorf bei Rosenheim
DESCRIPTION:Termin Link: http://www.oberpfraundorf.feuerwehren.bayern/termine/fahrt-zum-grundungsfest-der-fw-pfraundorf-bei-rosenheim/
URL:http://www.oberpfraundorf.feuerwehren.bayern/termine/fahrt-zum-grundungsfest-der-fw-pfraundorf-bei-rosenheim/
CLASS:PRIVATE
DTSTART;VALUE=DATE:20260510
DTEND;VALUE=DATE:20260510
DTSTAMP:20260421T045357Z
END:VEVENT
END:VCALENDAR